BEGIN:VCALENDAR
VERSION:2.0
PRODID:-//Ontmoetingscentrum Antwerpen VZW - ECPv6.9.0//NONSGML v1.0//EN
CALSCALE:GREGORIAN
METHOD:PUBLISH
X-WR-CALNAME:Ontmoetingscentrum Antwerpen VZW
X-ORIGINAL-URL:https://ocantwerpen.be
X-WR-CALDESC:Evenementen voor Ontmoetingscentrum Antwerpen VZW
REFRESH-INTERVAL;VALUE=DURATION:PT1H
X-Robots-Tag:noindex
X-PUBLISHED-TTL:PT1H
BEGIN:VTIMEZONE
TZID:UTC
BEGIN:STANDARD
TZOFFSETFROM:+0000
TZOFFSETTO:+0000
TZNAME:UTC
DTSTART:20240101T000000
END:STANDARD
END:VTIMEZONE
BEGIN:VEVENT
DTSTART;TZID=UTC:20250218T140000
DTEND;TZID=UTC:20250218T170000
DTSTAMP:20260421T234326
CREATED:20241010T091009Z
LAST-MODIFIED:20241230T095211Z
UID:1467-1739887200-1739898000@ocantwerpen.be
SUMMARY:Liefde en geluk - Lieve Mariën
DESCRIPTION:Locatie: Out of a Box\nDe Burburestraat 11\n2000 Antwerpen \nOpenbaar vervoer: lijnen 4\, 18\, 10 en 1
URL:https://ocantwerpen.be/event/liefde-en-geluk-lieve-marien/
LOCATION:Out of a Box\, De Burburestraat 11\, Antwerpen\, 2000\, Belgium
CATEGORIES:Start:14u
ATTACH;FMTTYPE=image/jpeg:https://ocantwerpen.be/wp-content/uploads/2024/10/gustav-klint.jpg
END:VEVENT
BEGIN:VEVENT
DTSTART;TZID=UTC:20241112T150000
DTEND;TZID=UTC:20241112T170000
DTSTAMP:20260421T234326
CREATED:20241010T084903Z
LAST-MODIFIED:20241230T095234Z
UID:1460-1731423600-1731430800@ocantwerpen.be
SUMMARY:Monoloog "Moederpijn"
DESCRIPTION:Toegang 25€ vooraf inschrijven op : ocavzw@gmail.com \nRekening nummer : BE 08 0910 1000 8813 \nUw inschrijving is definitief na betaling \nInschrijven tot 8.11.24
URL:https://ocantwerpen.be/event/monoloog-moederpijn/
LOCATION:Gallery Wouter De Bruycker\, Lange Koepoortstraat 64\, Antwerpen\, 2000\, Belgium
CATEGORIES:Start:15u
ATTACH;FMTTYPE=image/png:https://ocantwerpen.be/wp-content/uploads/2024/10/flyervoorkant-768x903-1.png
END:VEVENT
BEGIN:VEVENT
DTSTART;TZID=UTC:20241016T150000
DTEND;TZID=UTC:20241016T170000
DTSTAMP:20260421T234326
CREATED:20241010T082923Z
LAST-MODIFIED:20241230T095259Z
UID:1451-1729090800-1729098000@ocantwerpen.be
SUMMARY:Hebben wij een vrije wil?
DESCRIPTION:Professor Eric Kerckhofs\nToegang € 10. Vooraf inschrijven op: ocavzw@gmail.com \nRekeningnummer OCA: BE08 0910 1000 8813 \nUw inschrijving is definitief na betaling.
URL:https://ocantwerpen.be/event/hebben-wij-een-vrije-wil-prof-eric-kerckhofs/
LOCATION:Gallery Wouter De Bruycker\, Lange Koepoortstraat 64\, Antwerpen\, 2000\, Belgium
CATEGORIES:Start:15u
ATTACH;FMTTYPE=image/png:https://ocantwerpen.be/wp-content/uploads/2024/10/Schermafbeelding-2024-10-10-102830.png
END:VEVENT
END:VCALENDAR