BEGIN:VCALENDAR
VERSION:2.0
PRODID:-//Ontmoetingscentrum Antwerpen VZW - ECPv6.9.0//NONSGML v1.0//EN
CALSCALE:GREGORIAN
METHOD:PUBLISH
X-ORIGINAL-URL:https://ocantwerpen.be
X-WR-CALDESC:Evenementen voor Ontmoetingscentrum Antwerpen VZW
REFRESH-INTERVAL;VALUE=DURATION:PT1H
X-Robots-Tag:noindex
X-PUBLISHED-TTL:PT1H
BEGIN:VTIMEZONE
TZID:UTC
BEGIN:STANDARD
TZOFFSETFROM:+0000
TZOFFSETTO:+0000
TZNAME:UTC
DTSTART:20260101T000000
END:STANDARD
END:VTIMEZONE
BEGIN:VEVENT
DTSTART;TZID=UTC:20260604T140000
DTEND;TZID=UTC:20260604T170000
DTSTAMP:20260421T111601
CREATED:20260319T140003Z
LAST-MODIFIED:20260319T142252Z
UID:1624-1780581600-1780592400@ocantwerpen.be
SUMMARY:De Zorgvolmacht
DESCRIPTION:Erenotaris Hélène Casman en An Sibiet\, notaris\, zullen jullie informeren over de zorgvolmacht. \nWat kan je met een zorgvolmacht regelen\, waarom is het belangrijk omdat te doen\, wanneer en hoe moet je wat doen\, hoe goed kan je die volmacht aanpassen aan jouw specifieke noden en bekommernissen? \nDatum: 4 juni 2026 om 14 uur. \nPlaats :Out of a Box \, De Burburestraat 11 \,2000 Antwerpen \nToegang: 15 € : inschrijving op  ocavzw@gmail.com   tot 2 juni \nRek Nr OCA :  BE08 0910 1000 8813 \nUw inschrijving is definitief na betaling  \nTot weldra\, \nHet OCA bestuur
URL:https://ocantwerpen.be/event/de-zorgvolmacht/
LOCATION:Out of a Box\, De Burburestraat 11\, Antwerpen\, 2000\, Belgium
ATTACH;FMTTYPE=image/jpeg:https://ocantwerpen.be/wp-content/uploads/2026/03/20260211_113802-scaled.jpg
END:VEVENT
BEGIN:VEVENT
DTSTART;TZID=UTC:20261002T140000
DTEND;TZID=UTC:20261002T170000
DTSTAMP:20260421T111601
CREATED:20260319T142730Z
LAST-MODIFIED:20260319T142730Z
UID:1636-1790949600-1790960400@ocantwerpen.be
SUMMARY:Preventie van dementie: wat is er mogelijk?
DESCRIPTION:Preventie van dementie: wat is er mogelijk?\nProf. Dr. Sebastiaan Engelborghs (VUB en UZ Brussel)\n\nDementie is de meest voorkomende doodsoorzaak geworden in België. De ziekte van Alzheimer is de frequentste oorzaak van dementie. Vermits leeftijd de voornaamste risicofactor voor Alzheimer en dementie is\, en daar we gemiddeld nog steeds ouder worden\, zal het aantal personen met dementie naar wellicht verdubbelen tegen 2060. Er zijn ondertussen 14 risicofactoren voor dementie gekend. Door deze risicofactoren te beïnvloeden\, kunnen we 45% van alle dementies voorkomen of uitstellen. Dit opent mogelijkheden naar preventie toe. Welke zijn deze risicofactoren voor dementie? Wat kunnen wij als individuen doen om ons dementierisico te verminderen? En wat kunnen beleidsmakers doen om het risico op dementie gunstig te beïnvloeden?\nDatum: 2 oktober 2026 om 14 uur. \nPlaats :Out of a Box \, De Burburestraat 11 \,2000 Antwerpen \nToegang: 15 € : inschrijving op  ocavzw@gmail.com   tot 30 september. \nRek Nr OCA :  BE08 0910 1000 8813 \nUw inschrijving is definitief na betaling  \nTot weldra\, \nHet OCA bestuur
URL:https://ocantwerpen.be/event/preventie-van-dementie-wat-is-er-mogelijk-2/
ATTACH;FMTTYPE=image/jpeg:https://ocantwerpen.be/wp-content/uploads/2026/03/Engelborghs-Sebastiaan_29012026-6-scaled.jpg
END:VEVENT
END:VCALENDAR